BEGIN:VCALENDAR
VERSION:2.0
PRODID:-//mindstitute - ECPv6.15.17.1//NONSGML v1.0//EN
CALSCALE:GREGORIAN
METHOD:PUBLISH
X-WR-CALNAME:mindstitute
X-ORIGINAL-URL:https://www.mindstitute.de
X-WR-CALDESC:Veranstaltungen für mindstitute
REFRESH-INTERVAL;VALUE=DURATION:PT1H
X-Robots-Tag:noindex
X-PUBLISHED-TTL:PT1H
BEGIN:VTIMEZONE
TZID:Europe/Berlin
BEGIN:DAYLIGHT
TZOFFSETFROM:+0100
TZOFFSETTO:+0200
TZNAME:CEST
DTSTART:20250330T010000
END:DAYLIGHT
BEGIN:STANDARD
TZOFFSETFROM:+0200
TZOFFSETTO:+0100
TZNAME:CET
DTSTART:20251026T010000
END:STANDARD
BEGIN:DAYLIGHT
TZOFFSETFROM:+0100
TZOFFSETTO:+0200
TZNAME:CEST
DTSTART:20260329T010000
END:DAYLIGHT
BEGIN:STANDARD
TZOFFSETFROM:+0200
TZOFFSETTO:+0100
TZNAME:CET
DTSTART:20261025T010000
END:STANDARD
BEGIN:DAYLIGHT
TZOFFSETFROM:+0100
TZOFFSETTO:+0200
TZNAME:CEST
DTSTART:20270328T010000
END:DAYLIGHT
BEGIN:STANDARD
TZOFFSETFROM:+0200
TZOFFSETTO:+0100
TZNAME:CET
DTSTART:20271031T010000
END:STANDARD
END:VTIMEZONE
BEGIN:VEVENT
DTSTART;TZID=Europe/Berlin:20260602T080000
DTEND;TZID=Europe/Berlin:20260602T170000
DTSTAMP:20260419T181229
CREATED:20250620T150859Z
LAST-MODIFIED:20250923T083521Z
UID:10000236-1780387200-1780419600@www.mindstitute.de
SUMMARY:Jira für Administratoren in der Data Center Umgebung
DESCRIPTION:BeschreibungInhalteZielgruppenVoraussetzungenBeschreibung\nJira für Administratoren in der Data Center Umgebung\nIn dieser Jira Schulung für Administratoren lernen Sie die grundlegenden Möglichkeiten in der Administration von der Jira Data Center Software kennen und erfahren\, welche Optionen Sie als Techniker / IT-Administrator bei der Erweiterung Ihres Systems haben. \nDie Jira-Produkte unterstützen Unternehmen\, Teams und Mitarbeiter erfolgreich bei der Projektverwaltung\, Zusammenarbeit und Softwareentwicklung. Jira Core ist dabei die Basis für zentrales Prozess- und Aufgabenmanagement im Unternehmen. Mit Jira Service Desk optimieren Sie Ihren IT-Servicedesk / Helpdesk und den Kundenservice. Für Softwareprojekte und Vorgangsnachverfolgung in Zeit und Budget nutzen Sie Jira-Software. \nNach dem Besuch unserer Schulung wissen Sie\, wie Sie als Administrator bei der Organisation von Projekten in der Jira Data Center Umgebung optimal vorgehen können. \nDieses Seminar wird in Kooperation mit unserem Partner ExpertTeach durchgeführt. \nInhalte\nFolgende Themen werden im Seminar behandelt:\n\nAllgemeiner Überblick\nEinführung in den Administrationsbereich\nProjekte erstellen und konfigurieren\nProjektadministration\nFunktionale Administration in der Jira Data Center Umgebung\nGlobale Konfiguration\nÜbergreifende Aufgaben\n\nDas ausführliche deutschsprachige digitale Unterlagenpaket\, bestehend aus PDF und E-Book\, ist im Kurspreis enthalten. \nZielgruppen\n\nJira Data Center Anwendungs- und Systemadministratoren (IT-Admin)\nProjektadministratoren\, die über den Tellerrand hinausschauen wollen\nVorbereitungskurs für Personen\, die eine Atlassian Zertifizierung (ACP) anstreben\n\nVoraussetzungen\nGrundlagen in Jira Core und/oder der Jira Data Center Software. Sollten Sie die erforderlichen Kenntnisse noch nicht besitzen\, empfehlen wir Ihnen unsere Schulung Jira für Anwender in der Data Center Umgebung im Vorfeld zu besuchen. \nTechnische Voraussetzungen für Ihre Online-Teilnahme:\n\nPC\, Notebook oder Tablet mit Webcam\nMikrofon und Lautsprecher (alternativ Headset)\neinen der gängigen Webbrowser wie z.B. Google Chrome; Edge\, Safari\, Firefox oder alternativ Zoom bzw. Teams als App\n\nAnmeldeformular\n\nWählen Sie Ihren Termin aus *16. Dezember 2025 - Online10. Februar 2026 - Online2. Juni 2026 - OnlineSind Sie DOXNET-Mitglied? *JaNeinNein\, habe aber InteresseVorname\, Nachname *Firma *AbteilungE-Mail *Telefonnummer *Ihre Nachricht an unsWie haben Sie von diesem Seminar erfahren?WebKolleg:innenLinkedInInstagramNewsletterBriefZur Vervollständigung Ihrer Anmeldung\, stimmen Sie bitte den AGBs zu. *Ich habe die AGBs gelesen und stimme diesen zu.Anmeldung absendenVielen Dank! Wir haben Ihre Anmeldung erhalten. Sie erhalten in Kürze eine E-Mail zur Bestätigung Ihrer Anmeldung.\nFreundliche Grüße\nIhr mindstitute-Team Ein Fehler ist während Ihrer Anmeldung aufgetreten. Bitte melden Sie sich bei uns telefonisch oder per E-Mail unter folgenden Kontaktdaten:\n\nTelefon: +49 30 36434-301\nE-Mail: mailto:info@mindstitute.de
URL:https://www.mindstitute.de/event/jira-fuer-administratoren-in-der-data-center-umgebung/2026-06-02/
CATEGORIES:Event,IT & KI,Seminar,Webinar
ATTACH;FMTTYPE=image/png:https://www.mindstitute.de/wp-content/uploads/2025/06/Scrum-Beitragsbild.png
END:VEVENT
END:VCALENDAR